BEGIN:VCALENDAR
VERSION:2.0
PRODID:-//Lexington Christian Academy - ECPv6.8.3//NONSGML v1.0//EN
CALSCALE:GREGORIAN
METHOD:PUBLISH
X-WR-CALNAME:Lexington Christian Academy
X-ORIGINAL-URL:https://lca.edu
X-WR-CALDESC:Events for Lexington Christian Academy
REFRESH-INTERVAL;VALUE=DURATION:PT1H
X-Robots-Tag:noindex
X-PUBLISHED-TTL:PT1H
BEGIN:VTIMEZONE
TZID:America/New_York
BEGIN:DAYLIGHT
TZOFFSETFROM:-0500
TZOFFSETTO:-0400
TZNAME:EDT
DTSTART:20250309T070000
END:DAYLIGHT
BEGIN:STANDARD
TZOFFSETFROM:-0400
TZOFFSETTO:-0500
TZNAME:EST
DTSTART:20251102T060000
END:STANDARD
END:VTIMEZONE
BEGIN:VEVENT
DTSTART;VALUE=DATE:20251126
DTEND;VALUE=DATE:20251127
DTSTAMP:20260424T060515
CREATED:20250627T150844Z
LAST-MODIFIED:20251114T174035Z
UID:11625-1764115200-1764201599@lca.edu
SUMMARY:Fall Thanksgiving Break - NO CLASSES
DESCRIPTION:
URL:https://lca.edu/event/fall-thanksgiving-break-no-classes-5/
CATEGORIES:Web Calendar
END:VEVENT
END:VCALENDAR